BEGIN:VCALENDAR
VERSION:2.0
PRODID:-//Rock Island County Bar Association - ECPv6.15.12.2//NONSGML v1.0//EN
CALSCALE:GREGORIAN
METHOD:PUBLISH
X-ORIGINAL-URL:https://www.ricountybar.org
X-WR-CALDESC:Events for Rock Island County Bar Association
REFRESH-INTERVAL;VALUE=DURATION:PT1H
X-Robots-Tag:noindex
X-PUBLISHED-TTL:PT1H
BEGIN:VTIMEZONE
TZID:UTC
BEGIN:STANDARD
TZOFFSETFROM:+0000
TZOFFSETTO:+0000
TZNAME:UTC
DTSTART:20150101T000000
END:STANDARD
END:VTIMEZONE
BEGIN:VEVENT
DTSTART;TZID=UTC:20191014T140000
DTEND;TZID=UTC:20191014T180000
DTSTAMP:20260420T041535
CREATED:20190928T202655Z
LAST-MODIFIED:20191002T001206Z
UID:948-1571061600-1571076000@www.ricountybar.org
SUMMARY:RICO Bar Photo Sittings
DESCRIPTION:If you’ve been to the old courthouse\, you’ve seen the composite photos of our past bar association members. Now it’s your turn! The Bar is also undertaking its own history project and having the old composite photos scanned digitally to post on the bar website\, and to ensure they are preserved. \nThe composite print of the 2020 Bar Association Members in good standing print will be approximately 40×60 with each photo measuring approximately 1” high to accommodate our 300+ members. Fetography Portraits LLC normally charges $150 for a headshot with digital release\, but members of the bar will only pay a fee of $65\, resulting in a HUGE discount. This does include retouching on the photo. Members will be allowed the digital rights to the photo and can also purchase a smaller unframed print of the whole composite for a cost of $50. Payment must be made to the Rock island County Bar Association at the time of your sitting\, or\, sent in advance online or via mail with the attached order form invoice. \nSittings will be available on a first-come\, first-served basis with an open call style sitting. Each photo will likely take 1-3 minutes per person. The photographer will have a backdrop and lighting. The photo will be a head and shoulders portrait; please dress professionally with little to no pattern in your attire. Please bring a business card to your photo session \nSitting dates will be October 10 from 10:30-2:30 at the courthouse law library\, and October 14 from 2-6 at the Fall CLE location and before the Fall bar meeting that evening. \nThe composite will be revealed at the courthouse Annex in January of 2020 \nPlease direct questions to j.kincaid@silvislaw.com 309-755-5096. \n \nCheckout Using any Debit or Credit Card. We use PayPal as our payment processor. \n\n\n \n\n\nPhoto Sitting & Optional Print\n\n\nSitting Fee $65.00 USDFee\, plus Unframed Print $115.00 USD \n\n\nName:
URL:https://www.ricountybar.org/event/rico-bar-photo-sittings-2/
LOCATION:IL
END:VEVENT
BEGIN:VEVENT
DTSTART;VALUE=DATE:20191014
DTEND;VALUE=DATE:20191015
DTSTAMP:20260420T041535
CREATED:20190928T170650Z
LAST-MODIFIED:20191008T202905Z
UID:927-1571011200-1571097599@www.ricountybar.org
SUMMARY:Fall CLE Seminar & Happy Hour Meeting
DESCRIPTION:October 14\, 2019\nHyatt Place 111 Bend Blvd\, East Moline\, IL 61244 \n  \nAgenda\nCLE Check In: 9:00-9:30 a.m.\nLunch: 12:00 p.m.\nHappy Hour Bar Meeting in the River Room: 5:00 p.m.\nRICO Bar Composite Photos 2:00-6:00 p.m. \nApproval Pending for 5.25 Hours of CLE Topics (Including 1 Ethics Hour & 1 Diversity & Inclusion Ethics Hour) \n  \nRegistration Information\n5.25 hours of Illinois MCLE and Iowa CLE credit applied for;\nincluding 1 Ethics Hour and 1 Diversity & Inclusion Ethics Hour \nSeminar registrations fees are: $90 Members\, $120 Non-members \n  \nTimed Agenda\n\n\n\nTIME\nTOPIC\nPRESENTER\nCREDIT\n\n\n9:00am – 9:30am\nRegistration and Check In\n \n \n\n\n9:30am – 10:15am\nRock Island Residential Real Estate Basics & Purchase Agreement\nJen Kincaid\, Pepping\, Balk\, Kincaid  & Olson\, Ltd. \nBrent Bogen\, Katz Nowinski\n0.75\n\n\n10:15am – 11:15am\nPlanned Giving and the 2017 Tax Update & Update on Conservator/ Guardianship\nAnne Calder\, Hap Volz \nQuad City Community Foundation\n1.0\n\n\n11:15am – 11:30am\nBreak\n\n\n\n\n11:30am – 12:15pm\n2019 Civil Case Law Update\nJohnPatrick Brown\, \nNash Nash Bean & Ford\n0.75\n\n\n12:15pm – 1:15 pm\nLunch (provided)\n\n\n\n\n1:15pm – 2:15pm\nPro Bono Primer\nElizabeth Boe \nPublic Interest Law Initiative\n1.0 \n(Ethics)\n\n\n2:15pm – 3:00pm \n \nRecreational Marijuana: Issues for Illinois Employers  \n \nDaniel Hardin \nBozeman\, Neighbour\, Patton & Noe\n0.75\n\n\n3:00pm – 3:15pm\nBreak \n\n\n\n\n3:15pm – 4:15pm\nDiversity & Inclusion: Increasing Diversity within the Legal Profession  \nChristopher Pickett \nPresented in Partnership with the Illinois State Bar Association (Pre-recorded)\n1.0 \n(Ethics – Diversity Hours)\n\n\n\n  \n\nClick here to download the PDF registration form\n\n  \n\nCheckout Using any Debit or Credit Card. We use PayPal as our payment processor. \n \n\n\n\nFall CLE Seminar & Happy Hour Meeting\n\n\nMember $90.00 USDNon-Member $120.00 USD\n\n\nName of Attendee\n\n\n\n\n\nName of Attendee 2 (if needed)
URL:https://www.ricountybar.org/event/fall-cle-seminar-happy-hour-meeting/
LOCATION:IL
END:VEVENT
BEGIN:VEVENT
DTSTART;TZID=UTC:20191010T103000
DTEND;TZID=UTC:20191010T143000
DTSTAMP:20260420T041535
CREATED:20190928T202543Z
LAST-MODIFIED:20191002T001217Z
UID:946-1570703400-1570717800@www.ricountybar.org
SUMMARY:RICO Bar Photo Sittings
DESCRIPTION:If you’ve been to the old courthouse\, you’ve seen the composite photos of our past bar association members. Now it’s your turn! The Bar is also undertaking its own history project and having the old composite photos scanned digitally to post on the bar website\, and to ensure they are preserved. \nThe composite print of the 2020 Bar Association Members in good standing print will be approximately 40×60 with each photo measuring approximately 1” high to accommodate our 300+ members. Fetography Portraits LLC normally charges $150 for a headshot with digital release\, but members of the bar will only pay a fee of $65\, resulting in a HUGE discount. This does include retouching on the photo. Members will be allowed the digital rights to the photo and can also purchase a smaller unframed print of the whole composite for a cost of $50. Payment must be made to the Rock island County Bar Association at the time of your sitting\, or\, sent in advance online or via mail with the attached order form invoice. \nSittings will be available on a first-come\, first-served basis with an open call style sitting. Each photo will likely take 1-3 minutes per person. The photographer will have a backdrop and lighting. The photo will be a head and shoulders portrait; please dress professionally with little to no pattern in your attire. Please bring a business card to your photo session \nSitting dates will be October 10 from 10:30-2:30 at the courthouse law library\, and October 14 from 2-6 at the Fall CLE location and before the Fall bar meeting that evening. \nThe composite will be revealed at the courthouse Annex in January of 2020 \nPlease direct questions to j.kincaid@silvislaw.com 309-755-5096. \n \nCheckout Using any Debit or Credit Card. We use PayPal as our payment processor. \n\n\n \n\n\nPhoto Sitting & Optional Print\n\n\nSitting Fee $65.00 USDFee\, plus Unframed Print $115.00 USD \n\n\nName:
URL:https://www.ricountybar.org/event/rico-bar-photo-sittings/
LOCATION:IL
END:VEVENT
BEGIN:VEVENT
DTSTART;TZID=UTC:20190715T120000
DTEND;TZID=UTC:20190715T173000
DTSTAMP:20260420T041535
CREATED:20190424T195146Z
LAST-MODIFIED:20190709T210044Z
UID:841-1563192000-1563211800@www.ricountybar.org
SUMMARY:Golf Outing & July Meeting
DESCRIPTION:At Short Hills Country Club\, East Moline \nGolf Outing:  Registration starts at Noon\, shotgun start at 1:00 p.m.  For Golf Reservations\, call or email Christy at Mason & Scott 309-281-1976 or emailchristy@masonandscottpc.com \n\n\nDinner Meeting:  Social Hour will begin at 5:30 p.m.\, and dinner will be served at 6:30 p.m.  Meal choices are Prime Rib\, Tilapia or Pecan Crusted Chicken.   Emailricobar@churchillfirm.com for reservations.
URL:https://www.ricountybar.org/event/golf-outing-july-meeting/
LOCATION:IL
END:VEVENT
BEGIN:VEVENT
DTSTART;TZID=UTC:20190524T130000
DTEND;TZID=UTC:20190524T150000
DTSTAMP:20260420T041535
CREATED:20190524T202346Z
LAST-MODIFIED:20190524T202346Z
UID:877-1558702800-1558710000@www.ricountybar.org
SUMMARY:Memorial Service
DESCRIPTION:Rock Island County Bar Association Annual Memorial Service \nFriday\, May 24\, 2019 at 1:00 p.m. \nCourtroom 302 \n1317 3rd Avenue\, Rock island
URL:https://www.ricountybar.org/event/memorial-service-2/
LOCATION:IL
END:VEVENT
BEGIN:VEVENT
DTSTART;TZID=UTC:20190501T113000
DTEND;TZID=UTC:20190501T113000
DTSTAMP:20260420T041535
CREATED:20190424T195948Z
LAST-MODIFIED:20190424T195948Z
UID:845-1556710200-1556710200@www.ricountybar.org
SUMMARY:Law Day Luncheon
DESCRIPTION:The 2019 Law Day Luncheon is jointly sponsored by the Bar Associations of Rock Island County\, Illinois and Scott County\, Iowa and will be on Wednesday\, May 1\, 2019 at the Radisson Quad City Plaza located at 111 E. 2nd Street\, Davenport\, Iowa. Check-in begins at 11:30 a.m.\, with lunch being served at 11:45am. \nThe guest speaker will be Iowa Supreme Court Justice Tom Waterman\nThis year’s theme is Free Speech\, Free Press\, Free Society. \nReservations due by April 25th to Lane & Waterman LLP\, Attention: Angie Tornquist\, 220 N. Main Street\, Suite 600\, Davenport\, IA 52801. Call with questions: 563-324-3246
URL:https://www.ricountybar.org/event/law-day-luncheon-2/
LOCATION:Radisson Quad City Plaza
END:VEVENT
BEGIN:VEVENT
DTSTART;TZID=UTC:20190425T173000
DTEND;TZID=UTC:20190425T173000
DTSTAMP:20260420T041535
CREATED:20190424T194336Z
LAST-MODIFIED:20190424T194336Z
UID:838-1556213400-1556213400@www.ricountybar.org
SUMMARY:April Dinner Meeting
DESCRIPTION:at Oakwood Country Club\, 1067 US Hwy 6 Coal Valley\, IL \nSocial Hour will begin at 5:30 p.m.\, and dinner will be served at 6:45 p.m. \nRSVP to ricobar@churchillfirm.com \nMeal choices are Filet Mignon\, Seared Tilapia or Pasta Fagioli
URL:https://www.ricountybar.org/event/april-dinner-meeting-2/
LOCATION:Oakwood Country Club
END:VEVENT
BEGIN:VEVENT
DTSTART;TZID=UTC:20190124T173000
DTEND;TZID=UTC:20190124T173000
DTSTAMP:20260420T041535
CREATED:20190104T035846Z
LAST-MODIFIED:20190104T035846Z
UID:801-1548351000-1548351000@www.ricountybar.org
SUMMARY:January Dinner Meeting
DESCRIPTION:January 24\, 2019  –  5:30pm Social Hour  –  6:45pm Dinner \nQuad City Botanical Center\, 2525 4th Ave.\, Rock Island \nMeal choices are filet mignon\, baked orange roughy or vegetarian lasagna (with filet being the default) \nRSVP to ricobar@churchillfirm.com by 1/21/19
URL:https://www.ricountybar.org/event/january-dinner-meeting/
LOCATION:IL
END:VEVENT
BEGIN:VEVENT
DTSTART;TZID=UTC:20190111T083000
DTEND;TZID=UTC:20190111T163000
DTSTAMP:20260420T041535
CREATED:20181128T214457Z
LAST-MODIFIED:20190104T001628Z
UID:784-1547195400-1547224200@www.ricountybar.org
SUMMARY:January CLE Seminar
DESCRIPTION:Event: January CLE Seminar \nDate: Friday\, January 11\, 2018\, 8:30am – 4:30pm \nLocation: Western Illinois University QC – Riverfront Campus Room 111 \nCost: $90 for Members and $110 for Non-Members \nQuantity of Tickets can be changed upon Checkout. \n\n \n\n\n\nTicket Type:\n\n\nMember $90.00 USDNon-Member $110.00 USD\n\n\nAttendee Name or Firm Name:\n\n\n\n\n\nEmail:
URL:https://www.ricountybar.org/event/january-cle-seminar/
LOCATION:IL
END:VEVENT
BEGIN:VEVENT
DTSTART;TZID=UTC:20181025T173000
DTEND;TZID=UTC:20181025T173000
DTSTAMP:20260420T041535
CREATED:20180320T205629Z
LAST-MODIFIED:20181005T222457Z
UID:661-1540488600-1540488600@www.ricountybar.org
SUMMARY:October Dinner Meeting
DESCRIPTION:Jumer’s Hotel & Casino\, Rock Island \n5:30 Social Hour; 6:45 Dinner \nReservations to ricobar@churchillfirm.com by 10/22/18. \nMeal choices: Filet Mignon\, Baked Tilapia or Vegetarian Lasagna (default designation will be beef)
URL:https://www.ricountybar.org/event/october-dinner-meeting/
LOCATION:IL
END:VEVENT
BEGIN:VEVENT
DTSTART;TZID=UTC:20180716T120000
DTEND;TZID=UTC:20180716T120000
DTSTAMP:20260420T041535
CREATED:20180320T205101Z
LAST-MODIFIED:20180320T205101Z
UID:659-1531742400-1531742400@www.ricountybar.org
SUMMARY:Golf Outing & Dinner Meeting
DESCRIPTION:at Short Hills Country Club\, East Moline \nGolf Outing Registration at Noon \nSocial Hour 5:30 pm; Dinner 6:45 pm \nDetails available at a later date
URL:https://www.ricountybar.org/event/golf-outing-dinner-meeting/
LOCATION:IL
END:VEVENT
BEGIN:VEVENT
DTSTART;TZID=UTC:20180525T130000
DTEND;TZID=UTC:20180525T130000
DTSTAMP:20260420T041535
CREATED:20180413T203525Z
LAST-MODIFIED:20180413T203525Z
UID:731-1527253200-1527253200@www.ricountybar.org
SUMMARY:Memorial Service
DESCRIPTION:Rock Island County Justice Center \nTentatively scheduled for May 25th at 1:00 p.m. \nFurther details available soon
URL:https://www.ricountybar.org/event/memorial-service/
LOCATION:IL
END:VEVENT
BEGIN:VEVENT
DTSTART;TZID=UTC:20180501T113000
DTEND;TZID=UTC:20180501T113000
DTSTAMP:20260420T041535
CREATED:20180413T202843Z
LAST-MODIFIED:20180413T202843Z
UID:727-1525174200-1525174200@www.ricountybar.org
SUMMARY:Law Day Luncheon
DESCRIPTION:Tuesday\, May 1\, 2018 at the TaxSlayer Center\, Moline\, IL \nCheck-In begins at 11:30 a.m. and Lunch served at 11:45 a.m. \nReservations due 4/25/2018 to Hany G. Khoury’s Office (309) 796-0170 \n 
URL:https://www.ricountybar.org/event/law-day-luncheon/
LOCATION:IL
END:VEVENT
BEGIN:VEVENT
DTSTART;TZID=UTC:20180426T173000
DTEND;TZID=UTC:20180426T173000
DTSTAMP:20260420T041535
CREATED:20180320T204234Z
LAST-MODIFIED:20180320T204234Z
UID:656-1524763800-1524763800@www.ricountybar.org
SUMMARY:April Dinner Meeting
DESCRIPTION:at Oakwood Country Club\, Coal Valley\, IL \n5:30 Social Hour; 6:45 Dinner \nReservation by email to ricobar@churchillfirm.com by Monday\, April 23\, 2018. Make sure your email contains your name and meal preference.  Meal choices are Filet Mignon\, Baked Tilapia\, or Pasta e fagioli and the default designation will be beef if a preference is not given.
URL:https://www.ricountybar.org/event/april-dinner-meeting/
LOCATION:IL
END:VEVENT
BEGIN:VEVENT
DTSTART;TZID=UTC:20180105T083000
DTEND;TZID=UTC:20180105T153000
DTSTAMP:20260420T041535
CREATED:20171019T213023Z
LAST-MODIFIED:20171218T213252Z
UID:595-1515141000-1515166200@www.ricountybar.org
SUMMARY:CLE Seminar
DESCRIPTION:WIU-Riverfront Room 111\n$100 for non-members\, $75 for members \n\n \n\n\nTickets\n\n\nMember $75.00 USDNon-Member $100.00 USD
URL:https://www.ricountybar.org/event/cle-seminar/
LOCATION:IL
END:VEVENT
BEGIN:VEVENT
DTSTART;VALUE=DATE:20170616
DTEND;VALUE=DATE:20170617
DTSTAMP:20260420T041535
CREATED:20170322T202425Z
LAST-MODIFIED:20170519T033259Z
UID:521-1497571200-1497657599@www.ricountybar.org
SUMMARY:11th Hour Spring CLE Seminar
DESCRIPTION:Continuing Legal Education Seminar\n\nJune 16\, 8-4:30 pm – WIU QC Riverfront Campus\, Room 111\n\n\n\nCost:\n$0 for attorneys who take a pro bono case.\n\n\n$25 for bar assoc members who don’t take a pro bono case\n$75 for non members who don’t take a pro bono case\n\n\nThere will be no charge for the CLE if an attorney agrees to accept a pro bono referral from Prairie State Legal Services within the following twelve months. \nPro-Bono attendees please send email to nvanvoltenburg@churchillfirm.com to register. \nClick here for Guest Parking \nClick here for CLE Schedule and Presenters \n\n\nRegister with any Debit or Credit card Via Paypal: \n\n \n\n\n\nRegister Now:\n\n\nRICO Bar Members $25.00 USDNon Members $75.00 USD\n\n\nAttendee Name:\n\n\n\n\n\nFirm (if applicable)\n\n\n\n\n\n\n\n\n \n\n\n\n\n\n\n8:30-8:55\n\n\nCheck-in and welcome\n\n\n\n\n\n\n8:55-9:00\n\n\nIntroduction\n\n\n\nCarrie Clark\n\n\n\n\n9:00-10:00\n\n\nAdult Guardianship Basics\n\n\n\nMary Ann Brown\n\n\n\n\n10:00-10:30\n\n\n\nSo You Want to be a GAL\n\n\nCarrie Clark\n\n\n\n\n10:30-10:45\n\n\n\nBreak\n\n\n\n\n\n\n10:45-11:30\n\n\nView From the Bench: Presenting a Guardianship Petition to the Court\n\n\n\nHon. Linnea Thompson\n\n\n\n\n11:30:12:30\n\n\n\nLunch\n\n\n\nProvided by RICOBA\n\n\n\n\n12:30-1:30\n\n\nMediation Primer\n\n\n\nHon. Tim Slavin\n\n\n\n\n1:30-2:00\n\n\nSocial Security Disability\n\n\nJohn Remus\n\n\n\n\n\n2:00-2:30\n\n\nLandmines and Goldmines: What Employers and Employees Need to Know\n\n\nKelsey Marquard\n\n\n\n\n\n2:30-2:45\n\n\nBreak\n\n\n\n\n\n\n2:45-3:15\n\n\nClean Water Act Litigation\n\n\n\nPeter Wenker\n\n\n\n\n\n3:15-3:45\n\n\nAdvising Your Client: A Prosecutor’s Perspective\n\n\nAlyssa Raya
URL:https://www.ricountybar.org/event/11th-hour-spring-seminar-2/
LOCATION:IL
END:VEVENT
BEGIN:VEVENT
DTSTART;VALUE=DATE:20170525
DTEND;VALUE=DATE:20170526
DTSTAMP:20260420T041535
CREATED:20170322T210721Z
LAST-MODIFIED:20170322T210721Z
UID:522-1495670400-1495756799@www.ricountybar.org
SUMMARY:River Bandits Game
DESCRIPTION:Join us Thursday\, May 25th at Modern Woodman Park for the River Bandits Game!\n\nThe Rock Island Bar Association has reserved Private Suites for our members to enjoy the game!\nGates open at 5:30\, Game begins at 6:30.
URL:https://www.ricountybar.org/event/river-bandits-game/
LOCATION:IL
END:VEVENT
BEGIN:VEVENT
DTSTART;VALUE=DATE:20170501
DTEND;VALUE=DATE:20170502
DTSTAMP:20260420T041535
CREATED:20170404T200013Z
LAST-MODIFIED:20170404T200100Z
UID:539-1493596800-1493683199@www.ricountybar.org
SUMMARY:Law Day 2017
DESCRIPTION:May 1\, Noon at Radisson Quad City Plaza\n\nKeynote Speaker\, IA Supreme Court Justice Tom Waterman\n\nMore details to follow soon.
URL:https://www.ricountybar.org/event/law-day-2017/
LOCATION:Radisson Quad City Plaza
END:VEVENT
BEGIN:VEVENT
DTSTART;TZID=UTC:20170427T173000
DTEND;TZID=UTC:20170427T200000
DTSTAMP:20260420T041535
CREATED:20170329T150023Z
LAST-MODIFIED:20170413T030252Z
UID:527-1493314200-1493323200@www.ricountybar.org
SUMMARY:April 2017 Meeting & RICO Fellows Reception
DESCRIPTION:Join the Fellows of the Illinois Bar Foundation and the Rock Island County Bar Association for the Rock Island County Fellows Reception posthumously honoring Martin H. Katz and honoring Robert T. Park for their leadership and dedication to the law. The reception will be held in conjunction with the April RICO Bar Association Meeting on Thursday\, April 27\, 2017 at Oakwood Country Club from 5:30-8:00 pm.\n\n  \n\n  \n\nFor RICO Bar Association members\, tickets are complimentary\, and for non-RICO Bar Association members\, tickets are $25 each. Meal options are filet mignon\, seared tilapia\, or pasta e fagioli. To reserve or purchase tickets please call 309-762-3643 or email ricobar@churchillfirm.com.\n​\nThe proceeds from this event will help the Foundation further its mission to ensure meaningful access to the justice system\, especially for those with limited means; assist lawyers who have fallen on hard times; and provide legal Fellowships to recent law school graduates. For more information\, including sponsorship opportunities\, visit www.illinoisbarfoundation.org or call (312) 726-6072.\n  \nThank you to our generous sponsors!\n  \nBenefactor Sponsors:\nKatz Nowinski P.C.\nShawn S. Kasserman\nMichael J. Warner\, Warner & Zimmerle\n  \nPatron Sponsors:\nSimmons Hanly Conroy\nRock Island County Bar Association\n  \nFriend Sponsors:\nSusan M. Goldberg\nTim & Teresa Kelly
URL:https://www.ricountybar.org/event/april-2017-meeting-rico-fellows-reception/
LOCATION:Oakwood Country Club
END:VEVENT
BEGIN:VEVENT
DTSTART;TZID=UTC:20170114T080000
DTEND;TZID=UTC:20170114T170000
DTSTAMP:20260420T041535
CREATED:20170115T030613Z
LAST-MODIFIED:20170115T183954Z
UID:502-1484380800-1484413200@www.ricountybar.org
SUMMARY:NOTICE FROM THE ILLINOIS DCFS:
DESCRIPTION:NOTICE FROM THE ILLINOIS DCFS: \nThe Illinois Department of Children and Family Services is seeking to hire an additional attorney to work out of the Rock Island DCFS Office.  The job description\, together with contact information\, is attached.
URL:https://www.ricountybar.org/event/notice-from-the-illinois-dcfs/
LOCATION:IL
END:VEVENT
BEGIN:VEVENT
DTSTART;TZID=UTC:20170114T080000
DTEND;TZID=UTC:20170114T170000
DTSTAMP:20260420T041535
CREATED:20170115T030513Z
LAST-MODIFIED:20170115T030513Z
UID:501-1484380800-1484413200@www.ricountybar.org
SUMMARY:Meeting Announcement
DESCRIPTION:The 2017 Annual Dinner Meeting of the Rock Island County Bar Association will be held at The Abbey Station\, Rock Island\, IL\, on Thursday\, January 26\, 2017.  The social hour will begin at 5:30 pm and dinner will be served at 6:45 pm.  Please make your reservation by  email message to ricobar@churchillfirm.com by Monday\, January 23\, 2017.  Make sure your email contains your name and meal preference.  Meal choices are Filet Mignon\, Orange Roughy\, or Vegetable Lasagna.
URL:https://www.ricountybar.org/event/meeting-announcement/
LOCATION:IL
END:VEVENT
BEGIN:VEVENT
DTSTART;TZID=UTC:20161216T190000
DTEND;TZID=UTC:20161216T220000
DTSTAMP:20260420T041535
CREATED:20161128T201402Z
LAST-MODIFIED:20161128T201402Z
UID:488-1481914800-1481925600@www.ricountybar.org
SUMMARY:RI County Bar Holiday Party
DESCRIPTION:Friday\, December 16th 7pm\n\nBent River Brewing Co.\nRock Island\, IL\n\n\n\nMore Details to come!
URL:https://www.ricountybar.org/event/ri-county-bar-holiday-party/
LOCATION:Bent River Brewing Co.\, Rock Island\, IL\, United States
END:VEVENT
BEGIN:VEVENT
DTSTART;TZID=UTC:20161021T080000
DTEND;TZID=UTC:20161021T152000
DTSTAMP:20260420T041535
CREATED:20160928T194022Z
LAST-MODIFIED:20160928T203840Z
UID:451-1477036800-1477063200@www.ricountybar.org
SUMMARY:2016 FALL SEMINAR
DESCRIPTION:THE ROCK ISLAND COUNTY BAR ASSOCIATION\n2016 FALL SEMINAR\nFriday\, October 21\, 2016 ~ 8:00 a.m. to 3:20 p.m.\nHoliday Inn ~ 226 17th St.\, Rock Island\, IL\nPlease see Registration form.
URL:https://www.ricountybar.org/event/2016-f/
LOCATION:Holiday Inn\, 226 17th St.\, Rock Island\, IL\, United States
END:VEVENT
BEGIN:VEVENT
DTSTART;TZID=UTC:20161020T173000
DTEND;TZID=UTC:20161020T173000
DTSTAMP:20260420T041535
CREATED:20160928T195354Z
LAST-MODIFIED:20160928T203912Z
UID:456-1476984600-1476984600@www.ricountybar.org
SUMMARY:October 2016 Meeting
DESCRIPTION:The October 2016 Dinner Meeting of the Rock Island County Bar Association will be held at Oakwood Country\, on Thursday\, October 20\, 2016.  The social hour will begin at 5:30 p.m. and dinner will be served at 6:30 p.m. \nReservations can be made by contacting Mark Churchill at (309) 762-3643\, or by email message to ricobar@churchillfirm.com by Monday\, October 17\, 2016.  If you respond by email\, please include “October Meeting” as the subject and make sure your email contains your name and meal preference.  Meal choices are Filet Mignon\, Seared Talapia\, or Pasta Fagioli and the default designation will be beef if a preference is not given. \nGuests:   Remember that guests are always welcome to our Association meetings.  If you wish to bring a guest to a dinner meeting please make a notation of the guest’s name on your reservation.  The cost for dinner guests is $25.00 per person and should be paid prior to or at the meeting to the Secretary-Treasurer.
URL:https://www.ricountybar.org/event/october-2016-meeting/
LOCATION:IL
END:VEVENT
BEGIN:VEVENT
DTSTART;TZID=UTC:20160929T170000
DTEND;TZID=UTC:20160929T190000
DTSTAMP:20260420T041535
CREATED:20160928T194719Z
LAST-MODIFIED:20160928T194834Z
UID:453-1475168400-1475175600@www.ricountybar.org
SUMMARY:WOMEN’S BAR COMMITTEE QUARTERLY MEETING
DESCRIPTION:ROCK ISLAND COUNTY AND SCOTT COUNTY BAR ASSOCIATIONS \n\nWOMEN’S BAR COMMITTEE\nQUARTERLY MEETING\nWINE SOCIAL \n\nSEPTEMBER 29\, 2016 \nAGENDA: \n\n5:00–7:00 p.m. Wine Social at the Grape Life\n\nWe are looking to reinvigorate the Women’s Bar Committee. Although the September event is planned as a social event\, we will be asking for topic suggestions for future meetings at the event. As a committee\, we want to ensure we are continuing to provide relevant discussion and presentation topics. Please come prepared with your ideas!\nWe will have an open bar for the first $400 in wine. We will also have appetizers.\nOVERVIEW OF THE WOMEN’S BAR COMMITTEE\nWe meet four times a year\, typically during lunch. Our goal is two-fold with these luncheons: (1) to discuss relevant legal and workplace issues affecting women attorneys; and (2) to inspire women in their practice of law. \nFUTURE LUNCHEONS\nMark your calendars now for our future luncheons: \n\nThursday\, December 1\, 2016 (IL)\nThursday\, February 16\, 2017 (IA)\nThursday\, May 25\, 2017 (IL)\n\nPlease feel free to e-mail Kelsey Marquard at kmarquard@hhlawpc.com or Sarah Gorham at sgorham@sbrlawfirm.law with any ideas for future luncheon topics\, to sign up for the Women’s Bar Committee\, or if you have any questions or comments. \n  \nWOMEN’S BAR PLANNING COMMITTEE MEMBERS\nSarah Gorham \nKelsey Marquard \nAmber Hardin \nJennifer Kincaid \nMichelle Fitzsimmons \nDee Runnels \nTionn Fambro Carter \nHeather Carlson \nTrista Foster Lori \nScardina Utsinger
URL:https://www.ricountybar.org/event/womens-bar-committee-quarterly-meeting/
LOCATION:IL
END:VEVENT
BEGIN:VEVENT
DTSTART;TZID=UTC:20160923T180000
DTEND;TZID=UTC:20160923T210000
DTSTAMP:20260420T041535
CREATED:20160822T214220Z
LAST-MODIFIED:20160822T214448Z
UID:437-1474653600-1474664400@www.ricountybar.org
SUMMARY:Justice for All is NO Trivial Matter
DESCRIPTION:a Trivia Night FUNdraiser in support  \nof Prairie State Legal Services\n \n\n\n DOORS AT 6 P.M.  \nBring Your Own Snacks \n(outside food and limited beverages [water and iced tea] are permitted)\n \nCASH BAR \n TRIVIA STARTS AT  7 P.M. \nSILENT AUCTION\n \nCASH PRIZES FOR TOP 3 TEAMS \n$15 per person or $120 for a table of eight\n \nPrairie State Legal Services provides free legal services for the most vulnerable groups in our society\, including the poor\, the elderly\, and people with disabilities. Join Prairie State for a night of fun\, great food\, and a chance to show just how smart you are while ensuring equal access to justice.   \nRegister yourself (and we’ll help you find a table of brainiacs) or register a team by  just clicking below.  \nMulligans (to guarantee you a point in each round) and Doublers (doubling your team’s score in any one round) will be available for purchase to help you inch ahead of the competition.
URL:https://www.ricountybar.org/event/justice-for-all-is-no-trivial-matter/
LOCATION:Camden Centre (formerly Milan Community Center)\, 2701 1st St. East\, Milan\, IL\, United States
END:VEVENT
BEGIN:VEVENT
DTSTART;TZID=UTC:20160727T170000
DTEND;TZID=UTC:20160727T170000
DTSTAMP:20260420T041535
CREATED:20160712T044148Z
LAST-MODIFIED:20160712T044305Z
UID:427-1469638800-1469638800@www.ricountybar.org
SUMMARY:Judge and Young Lawyer Division event
DESCRIPTION:Please join us for our next judge and Young Lawyer Division event to be held at Me & Billy in Davenport beginning at 5:00 p.m. on July 27. Features of this event include free food\, an open bar\, and great company!\nPlease note this event is also open to all interns and clerks spending their summer in the area\, so please feel free to share the invitation!
URL:https://www.ricountybar.org/event/judge-and-young-lawyer-division-event/
LOCATION:Me & Billy\, Davenport
END:VEVENT
BEGIN:VEVENT
DTSTART;TZID=UTC:20160718T130000
DTEND;TZID=UTC:20160718T130000
DTSTAMP:20260420T041535
CREATED:20160705T220701Z
LAST-MODIFIED:20160705T220701Z
UID:421-1468846800-1468846800@www.ricountybar.org
SUMMARY:2016 ROCK ISLAND COUNTY BAR ASSOCIATION SUMMER GOLF OUTING
DESCRIPTION:View PDF flyer
URL:https://www.ricountybar.org/event/2016-rock-island-county-bar-association-summer-golf-outing/
LOCATION:IL
END:VEVENT
BEGIN:VEVENT
DTSTART;VALUE=DATE:20160610
DTEND;VALUE=DATE:20160611
DTSTAMP:20260420T041535
CREATED:20160603T183451Z
LAST-MODIFIED:20160603T183451Z
UID:391-1465516800-1465603199@www.ricountybar.org
SUMMARY:11th Hour Spring Seminar
DESCRIPTION:Cost: FREE. Lunch provided.\nJune 10\, 2016\nWestern Illinois University-QC\nRoom 111 Auditorium\n2.5 hours of CLE\, including 1.5 ethics hours \n\n11:30 – Check-in\n12:00 – Lunch (Sandwiches\, etc.\, provided by RICOBA)\n12:25 – Welcome and introduction\, Carrie Clark\n12:30 – 2:00 – Talkin’ Bout My Generation\, (ethics)\nPresenter: Mark Palmer\, Supreme Court Commission on Professionalism\n2:00-2:15 – Break\n2:15-2:45 – Post-Conviction Basics\,\nPresenter: Nate Nieman of Nieman Law Group\n2:45-3:15 – The Who\, What\, When\, Where\, Why and How Of Orders of Protection\,\nPresenter: Hon. Linnea Thompson\, Fourteenth Judicial Circuit Court\n3:15 – Dismissal and thank you\, Carrie Clark\n3:20 – Convene for informal gathering at Happy Joe’s Grille to enjoy some camaraderie!\nFor more information or to RSVP\, email Carrie Clark cclark@mcfe-law.com.
URL:https://www.ricountybar.org/event/11th-hour-spring-seminar/
LOCATION:Western Illinois University-Quad Cities Room 111
END:VEVENT
END:VCALENDAR